BEGIN:VCALENDAR
VERSION:2.0
PRODID:-//Gulf Gold Group - ECPv6.15.20//NONSGML v1.0//EN
CALSCALE:GREGORIAN
METHOD:PUBLISH
X-ORIGINAL-URL:https://gulfgoldgroup.com
X-WR-CALDESC:Events for Gulf Gold Group
REFRESH-INTERVAL;VALUE=DURATION:PT1H
X-Robots-Tag:noindex
X-PUBLISHED-TTL:PT1H
BEGIN:VTIMEZONE
TZID:Asia/Dubai
BEGIN:STANDARD
TZOFFSETFROM:+0400
TZOFFSETTO:+0400
TZNAME:+04
DTSTART:20240101T000000
END:STANDARD
END:VTIMEZONE
BEGIN:VEVENT
DTSTART;TZID=Asia/Dubai:20250928T080000
DTEND;TZID=Asia/Dubai:20250928T170000
DTSTAMP:20260423T223238
CREATED:20250926T182903Z
LAST-MODIFIED:20250926T182903Z
UID:76-1759046400-1759078800@gulfgoldgroup.com
SUMMARY:Opening
DESCRIPTION:
URL:https://gulfgoldgroup.com/event/opening/
END:VEVENT
END:VCALENDAR